BEGIN:VCALENDAR
VERSION:2.0
PRODID:-//Executive Vice Chancellor and Provost - ECPv6.15.17.1//NONSGML v1.0//EN
CALSCALE:GREGORIAN
METHOD:PUBLISH
X-WR-CALNAME:Executive Vice Chancellor and Provost
X-ORIGINAL-URL:https://provost.ncsu.edu
X-WR-CALDESC:Events for Executive Vice Chancellor and Provost
REFRESH-INTERVAL;VALUE=DURATION:PT1H
X-Robots-Tag:noindex
X-PUBLISHED-TTL:PT1H
BEGIN:VTIMEZONE
TZID:America/New_York
BEGIN:DAYLIGHT
TZOFFSETFROM:-0500
TZOFFSETTO:-0400
TZNAME:EDT
DTSTART:20180311T070000
END:DAYLIGHT
BEGIN:STANDARD
TZOFFSETFROM:-0400
TZOFFSETTO:-0500
TZNAME:EST
DTSTART:20181104T060000
END:STANDARD
BEGIN:DAYLIGHT
TZOFFSETFROM:-0500
TZOFFSETTO:-0400
TZNAME:EDT
DTSTART:20190310T070000
END:DAYLIGHT
BEGIN:STANDARD
TZOFFSETFROM:-0400
TZOFFSETTO:-0500
TZNAME:EST
DTSTART:20191103T060000
END:STANDARD
BEGIN:DAYLIGHT
TZOFFSETFROM:-0500
TZOFFSETTO:-0400
TZNAME:EDT
DTSTART:20200308T070000
END:DAYLIGHT
BEGIN:STANDARD
TZOFFSETFROM:-0400
TZOFFSETTO:-0500
TZNAME:EST
DTSTART:20201101T060000
END:STANDARD
END:VTIMEZONE
BEGIN:VEVENT
DTSTART;TZID=America/New_York:20190801T083000
DTEND;TZID=America/New_York:20190801T113000
DTSTAMP:20260421T105338
CREATED:20190715T125935Z
LAST-MODIFIED:20190715T125935Z
UID:10000159-1564648200-1564659000@provost.ncsu.edu
SUMMARY:Summer Undergraduate Research and Creativity Symposium
DESCRIPTION:
URL:https://undergradresearch.dasa.ncsu.edu/18th-annual-nc-state-summer-undergraduate-research-and-creativity-symposium/#new_tab
LOCATION:Talley Student Union\, 2610 Cates Avenue\, Raleigh\, NC\, 27606\, United States
CATEGORIES:Faculty Central,Homepage
END:VEVENT
BEGIN:VEVENT
DTSTART;TZID=America/New_York:20190812T073000
DTEND;TZID=America/New_York:20190812T151500
DTSTAMP:20260421T105338
CREATED:20190715T141605Z
LAST-MODIFIED:20190808T133758Z
UID:10000161-1565595000-1565622900@provost.ncsu.edu
SUMMARY:Department Head Orientation
DESCRIPTION:Department Head (DH) Orientation is sponsored by the Office of the Executive Vice Chancellor and Provost and organized by the Office of Faculty Development. \nAgenda​:  \n\n8:30-9 a.m. –  Registration and Continental Breakfast\n9-9:30 a.m. – Welcome and Overview of DH Responsibilities\n9:30-10:30 a.m. – Lessons Learned from Being a DH\n10:30-10:45 a.m. – Break\n10:45-11:45 a.m. – Red Phone Resources\n11:45 a.m.-12 p.m. Break\n12-12:30 p.m. – Table Discussions with Red Phone Resources\n12:30-1:30 p.m. – Lunch\n1:30-2:30 p.m. – Financial Management Responsibilities: How to Work with your Budget Officer\n2:30-2:40 p.m. – Break\n2:40-2:45 p.m. – Introduction to Faculty Ombuds Office\n2:45-3:45 p.m. – Thinking about Departmental Climate\n3:45-4:15 p.m. – DH Toolkit\, Website and Resources\, Next Steps and Closing Remarks\n\nPlease contact Jonathan Holloway (jphollow@ncsu.edu) in the Office of Faculty Development for more information about this event.
URL:https://provost.ncsu.edu/event/department-head-orientation-2019/
LOCATION:Park Alumni Center\, Room 220\, 2450 Alumni Drive\, Raleigh\, NC\, 27606\, United States
CATEGORIES:Department Heads
GEO:35.7627742;-78.6794678
X-APPLE-STRUCTURED-LOCATION;VALUE=URI;X-ADDRESS=Park Alumni Center Room 220 2450 Alumni Drive Raleigh NC 27606 United States;X-APPLE-RADIUS=500;X-TITLE=2450 Alumni Drive:geo:-78.6794678,35.7627742
END:VEVENT
BEGIN:VEVENT
DTSTART;TZID=America/New_York:20190815T070000
DTEND;TZID=America/New_York:20190815T141500
DTSTAMP:20260421T105338
CREATED:20190710T202218Z
LAST-MODIFIED:20190710T202234Z
UID:10000153-1565852400-1565878500@provost.ncsu.edu
SUMMARY:New Faculty Orientation - Day 1
DESCRIPTION:
URL:https://ofd.ncsu.edu/events-and-programs/new-faculty-orientation/#new_tab
LOCATION:McKimmon Conference & Training Center\, 1101 Gorman Street\, Raleigh\, 27606\, United States
CATEGORIES:Faculty Central,Homepage
GEO:35.7827332;-78.6851236
X-APPLE-STRUCTURED-LOCATION;VALUE=URI;X-ADDRESS=McKimmon Conference & Training Center 1101 Gorman Street Raleigh 27606 United States;X-APPLE-RADIUS=500;X-TITLE=1101 Gorman Street:geo:-78.6851236,35.7827332
END:VEVENT
BEGIN:VEVENT
DTSTART;TZID=America/New_York:20190819T070000
DTEND;TZID=America/New_York:20190819T141500
DTSTAMP:20260421T105338
CREATED:20190710T202509Z
LAST-MODIFIED:20190710T202538Z
UID:10000155-1566198000-1566224100@provost.ncsu.edu
SUMMARY:New Faculty Orientation - Day 2
DESCRIPTION:
URL:https://ofd.ncsu.edu/events-and-programs/new-faculty-orientation/#new_tab
LOCATION:McKimmon Conference & Training Center\, 1101 Gorman Street\, Raleigh\, 27606\, United States
CATEGORIES:Faculty Central,Homepage
GEO:35.7827332;-78.6851236
X-APPLE-STRUCTURED-LOCATION;VALUE=URI;X-ADDRESS=McKimmon Conference & Training Center 1101 Gorman Street Raleigh 27606 United States;X-APPLE-RADIUS=500;X-TITLE=1101 Gorman Street:geo:-78.6851236,35.7827332
END:VEVENT
BEGIN:VEVENT
DTSTART;TZID=America/New_York:20190819T140000
DTEND;TZID=America/New_York:20190819T153000
DTSTAMP:20260421T105338
CREATED:20190710T201403Z
LAST-MODIFIED:20190719T124753Z
UID:10000149-1566223200-1566228600@provost.ncsu.edu
SUMMARY:Convocation
DESCRIPTION:
URL:https://newstudents.dasa.ncsu.edu/wolfpackwelcomeweek/convocation/#new_tab
LOCATION:Reynolds Coliseum\, 2411 Dunn Avenue\, Raleigh\, NC\, 27695\, United States
CATEGORIES:Faculty Central,Homepage
END:VEVENT
BEGIN:VEVENT
DTSTART;VALUE=DATE:20190820
DTEND;VALUE=DATE:20190822
DTSTAMP:20260421T105338
CREATED:20190710T201606Z
LAST-MODIFIED:20190710T201753Z
UID:10000151-1566342000-1566428399@provost.ncsu.edu
SUMMARY:First Day of Classes for 2019 Fall Term
DESCRIPTION:
URL:https://studentservices.ncsu.edu/calendars/academic/#fall#new_tab
CATEGORIES:Faculty Central,Homepage
END:VEVENT
BEGIN:VEVENT
DTSTART;TZID=America/New_York:20190824T130000
DTEND;TZID=America/New_York:20190824T210000
DTSTAMP:20260421T105338
CREATED:20190822T131953Z
LAST-MODIFIED:20190822T132058Z
UID:10000274-1566651600-1566680400@provost.ncsu.edu
SUMMARY:Packapalooza
DESCRIPTION:
URL:https://packapalooza.ncsu.edu/#new_tab
CATEGORIES:Faculty Central,Homepage
END:VEVENT
BEGIN:VEVENT
DTSTART;TZID=America/New_York:20190830T104500
DTEND;TZID=America/New_York:20190830T120000
DTSTAMP:20260421T105338
CREATED:20190822T131624Z
LAST-MODIFIED:20190822T131624Z
UID:10000272-1567161900-1567166400@provost.ncsu.edu
SUMMARY:Live From the International Space Station
DESCRIPTION:
URL:https://www.ncsu.edu/think-and-do/live-from-the-international-space-station/#new_tab
LOCATION:Talley Student Union\, State Ballroom
CATEGORIES:Faculty Central,Homepage
END:VEVENT
END:VCALENDAR