BEGIN:VCALENDAR
VERSION:2.0
PRODID:-//Executive Vice Chancellor and Provost - ECPv6.15.17.1//NONSGML v1.0//EN
CALSCALE:GREGORIAN
METHOD:PUBLISH
X-WR-CALNAME:Executive Vice Chancellor and Provost
X-ORIGINAL-URL:https://provost.ncsu.edu
X-WR-CALDESC:Events for Executive Vice Chancellor and Provost
REFRESH-INTERVAL;VALUE=DURATION:PT1H
X-Robots-Tag:noindex
X-PUBLISHED-TTL:PT1H
BEGIN:VTIMEZONE
TZID:America/New_York
BEGIN:DAYLIGHT
TZOFFSETFROM:-0500
TZOFFSETTO:-0400
TZNAME:EDT
DTSTART:20180311T070000
END:DAYLIGHT
BEGIN:STANDARD
TZOFFSETFROM:-0400
TZOFFSETTO:-0500
TZNAME:EST
DTSTART:20181104T060000
END:STANDARD
BEGIN:DAYLIGHT
TZOFFSETFROM:-0500
TZOFFSETTO:-0400
TZNAME:EDT
DTSTART:20190310T070000
END:DAYLIGHT
BEGIN:STANDARD
TZOFFSETFROM:-0400
TZOFFSETTO:-0500
TZNAME:EST
DTSTART:20191103T060000
END:STANDARD
BEGIN:DAYLIGHT
TZOFFSETFROM:-0500
TZOFFSETTO:-0400
TZNAME:EDT
DTSTART:20200308T070000
END:DAYLIGHT
BEGIN:STANDARD
TZOFFSETFROM:-0400
TZOFFSETTO:-0500
TZNAME:EST
DTSTART:20201101T060000
END:STANDARD
END:VTIMEZONE
BEGIN:VEVENT
DTSTART;TZID=America/New_York:20190603T073000
DTEND;TZID=America/New_York:20190603T160000
DTSTAMP:20260424T190146
CREATED:20181002T135716Z
LAST-MODIFIED:20181002T135824Z
UID:10000208-1559547000-1559577600@provost.ncsu.edu
SUMMARY:Faculty Writing Retreat
DESCRIPTION:
URL:https://ofd.ncsu.edu/events-and-programs/faculty-writing-retreat/#new_tab
LOCATION:D.H. Hill Library Faculty Research Commons\, 2 W Broughton Dr\, Raleigh\, NC\, 27695\, United States
CATEGORIES:Faculty Central
END:VEVENT
BEGIN:VEVENT
DTSTART;TZID=America/New_York:20190606T090000
DTEND;TZID=America/New_York:20190606T160000
DTSTAMP:20260424T190146
CREATED:20190417T171415Z
LAST-MODIFIED:20190507T202932Z
UID:10000260-1559811600-1559836800@provost.ncsu.edu
SUMMARY:2019 NC STRIVE Central East Conference
DESCRIPTION:
URL:https://spark.adobe.com/page/Y78rwR9qsHLnI/#new_tab
LOCATION:Talley Student Union\, 2610 Cates Avenue\, Raleigh\, NC\, 27606\, United States
CATEGORIES:Faculty Central,Homepage
END:VEVENT
BEGIN:VEVENT
DTSTART;TZID=America/New_York:20190606T180000
DTEND;TZID=America/New_York:20190606T190000
DTSTAMP:20260424T190146
CREATED:20190507T205250Z
LAST-MODIFIED:20190507T205250Z
UID:10000261-1559844000-1559847600@provost.ncsu.edu
SUMMARY:Flying with Pandas and Walking in Space: Pushing Boundaries Towards a Better Planet
DESCRIPTION:
URL:https://www.lib.ncsu.edu/events/flying-pandas-and-walking-space-pushing-boundaries-towards-better-planet#new_tab
LOCATION:James B. Hunt Jr. Library Auditorium\, 1070 Partners Way\, Raleigh\, NC\, 27606
CATEGORIES:Faculty Central,Homepage
END:VEVENT
BEGIN:VEVENT
DTSTART;VALUE=DATE:20190623
DTEND;VALUE=DATE:20190625
DTSTAMP:20260424T190146
CREATED:20190507T205859Z
LAST-MODIFIED:20190507T205859Z
UID:10000263-1561330800-1561417199@provost.ncsu.edu
SUMMARY:First Day of Classes for 2019 Summer Session II
DESCRIPTION:
URL:https://studentservices.ncsu.edu/calendars/academic/#summerii#new_tab
CATEGORIES:Faculty Central,Homepage
END:VEVENT
END:VCALENDAR