BEGIN:VCALENDAR
VERSION:2.0
PRODID:-//Executive Vice Chancellor and Provost - ECPv6.15.17.1//NONSGML v1.0//EN
CALSCALE:GREGORIAN
METHOD:PUBLISH
X-WR-CALNAME:Executive Vice Chancellor and Provost
X-ORIGINAL-URL:https://provost.ncsu.edu
X-WR-CALDESC:Events for Executive Vice Chancellor and Provost
REFRESH-INTERVAL;VALUE=DURATION:PT1H
X-Robots-Tag:noindex
X-PUBLISHED-TTL:PT1H
BEGIN:VTIMEZONE
TZID:America/New_York
BEGIN:DAYLIGHT
TZOFFSETFROM:-0500
TZOFFSETTO:-0400
TZNAME:EDT
DTSTART:20170312T070000
END:DAYLIGHT
BEGIN:STANDARD
TZOFFSETFROM:-0400
TZOFFSETTO:-0500
TZNAME:EST
DTSTART:20171105T060000
END:STANDARD
BEGIN:DAYLIGHT
TZOFFSETFROM:-0500
TZOFFSETTO:-0400
TZNAME:EDT
DTSTART:20180311T070000
END:DAYLIGHT
BEGIN:STANDARD
TZOFFSETFROM:-0400
TZOFFSETTO:-0500
TZNAME:EST
DTSTART:20181104T060000
END:STANDARD
BEGIN:DAYLIGHT
TZOFFSETFROM:-0500
TZOFFSETTO:-0400
TZNAME:EDT
DTSTART:20190310T070000
END:DAYLIGHT
BEGIN:STANDARD
TZOFFSETFROM:-0400
TZOFFSETTO:-0500
TZNAME:EST
DTSTART:20191103T060000
END:STANDARD
END:VTIMEZONE
BEGIN:VEVENT
DTSTART;VALUE=DATE:20180131
DTEND;VALUE=DATE:20180301
DTSTAMP:20260419T165916
CREATED:20180129T214014Z
LAST-MODIFIED:20180129T214120Z
UID:10000143-1517439600-1519858799@provost.ncsu.edu
SUMMARY:Black History Month
DESCRIPTION:
URL:https://oied.ncsu.edu/divweb/msa/black-history-month-2018/#new_tab
LOCATION:Multiple Venues Across Campus\, NC\, United States
END:VEVENT
BEGIN:VEVENT
DTSTART;TZID=America/New_York:20180205T080000
DTEND;TZID=America/New_York:20180205T130000
DTSTAMP:20260419T165916
CREATED:20180112T205646Z
LAST-MODIFIED:20180112T205646Z
UID:10000140-1517817600-1517835600@provost.ncsu.edu
SUMMARY:Diversity in STEM Symposium: Making Space for Ourselves and Others
DESCRIPTION:
URL:https://sciences.ncsu.edu/event/diversity-in-stem-symposium/#new_tab
LOCATION:Talley Student Union\, 2610 Cates Avenue\, Raleigh\, NC\, 27606\, United States
CATEGORIES:Homepage
END:VEVENT
BEGIN:VEVENT
DTSTART;TZID=America/New_York:20180222T080000
DTEND;TZID=America/New_York:20180222T144500
DTSTAMP:20260419T165916
CREATED:20180221T160341Z
LAST-MODIFIED:20180221T160341Z
UID:10000144-1519286400-1519310700@provost.ncsu.edu
SUMMARY:Teaching and Learning Symposium: Inspiring Student Success
DESCRIPTION:
URL:https://ofd.ncsu.edu/events-and-programs/teaching-learning-symposium/#new_tab
LOCATION:McKimmon Conference & Training Center\, 1101 Gorman Street\, Raleigh\, 27606\, United States
CATEGORIES:Homepage
GEO:35.7827332;-78.6851236
X-APPLE-STRUCTURED-LOCATION;VALUE=URI;X-ADDRESS=McKimmon Conference & Training Center 1101 Gorman Street Raleigh 27606 United States;X-APPLE-RADIUS=500;X-TITLE=1101 Gorman Street:geo:-78.6851236,35.7827332
END:VEVENT
BEGIN:VEVENT
DTSTART;TZID=America/New_York:20180226T140000
DTEND;TZID=America/New_York:20180226T160000
DTSTAMP:20260419T165916
CREATED:20180129T213358Z
LAST-MODIFIED:20180129T213358Z
UID:10000142-1519653600-1519660800@provost.ncsu.edu
SUMMARY:Spring Diversity Dialogue: From Dialogue to Action
DESCRIPTION:
URL:https://oied.ncsu.edu/divweb/2018/01/25/diversity-dialogue-to-delve-into-issues-on-college-campuses/#new_tab
LOCATION:Witherspoon Student Center\, Campus Cinema\, 2810 Cates Avenue
CATEGORIES:Homepage
GEO:35.7851048;-78.6745321
X-APPLE-STRUCTURED-LOCATION;VALUE=URI;X-ADDRESS=Witherspoon Student Center Campus Cinema 2810 Cates Avenue;X-APPLE-RADIUS=500;X-TITLE=2810 Cates Avenue:geo:-78.6745321,35.7851048
END:VEVENT
BEGIN:VEVENT
DTSTART;TZID=America/New_York:20180228T110000
DTEND;TZID=America/New_York:20180228T123000
DTSTAMP:20260419T165916
CREATED:20171201T221134Z
LAST-MODIFIED:20180214T192455Z
UID:10000060-1519815600-1519821000@provost.ncsu.edu
SUMMARY:CANCELED - Department Head Workshop Series
DESCRIPTION:The Department Head Workshop Series\, sponsored by the Office of the Executive Vice Chancellor and Provost and organized by the Office of Faculty Development\, is open to all department heads. Lunch is provided and registration is required.  \nContact Doug James (dljames2@ncsu.edu) for more information.
URL:https://provost.ncsu.edu/event/department-head-workshop-series-february/
LOCATION:Talley Student Union\, Room 3285
CATEGORIES:Department Heads
END:VEVENT
BEGIN:VEVENT
DTSTART;TZID=America/New_York:20180228T143000
DTEND;TZID=America/New_York:20180228T160000
DTSTAMP:20260419T165916
CREATED:20180104T170431Z
LAST-MODIFIED:20180104T170451Z
UID:10000137-1519828200-1519833600@provost.ncsu.edu
SUMMARY:RPT Overview Session for Tenured/Tenure-Track Faculty and Non Tenure-Track (NTT) Faculty
DESCRIPTION:Please proceed to: https://provost.ncsu.edu/faculty-resources/reappointment-promotion-and-tenure/rpt-updates/#info-sessions
URL:https://provost.ncsu.edu/event/rpt-overview-session-feb-2018/
LOCATION:Riddick Hall\, Room 451\, 2401 Stinson Drive\, Raleigh\, NC\, 27607\, United States
CATEGORIES:Department Heads,Homepage
GEO:35.7850702;-78.6679736
X-APPLE-STRUCTURED-LOCATION;VALUE=URI;X-ADDRESS=Riddick Hall Room 451 2401 Stinson Drive Raleigh NC 27607 United States;X-APPLE-RADIUS=500;X-TITLE=2401 Stinson Drive:geo:-78.6679736,35.7850702
END:VEVENT
END:VCALENDAR